BEGIN:VCALENDAR
VERSION:2.0
PRODID:-//Girl Guiding Surrey East - ECPv6.15.20//NONSGML v1.0//EN
CALSCALE:GREGORIAN
METHOD:PUBLISH
X-WR-CALNAME:Girl Guiding Surrey East
X-ORIGINAL-URL:https://www.girlguidingsurreyeast.org.uk
X-WR-CALDESC:Events for Girl Guiding Surrey East
REFRESH-INTERVAL;VALUE=DURATION:PT1H
X-Robots-Tag:noindex
X-PUBLISHED-TTL:PT1H
BEGIN:VTIMEZONE
TZID:Europe/London
BEGIN:DAYLIGHT
TZOFFSETFROM:+0000
TZOFFSETTO:+0100
TZNAME:BST
DTSTART:20240331T010000
END:DAYLIGHT
BEGIN:STANDARD
TZOFFSETFROM:+0100
TZOFFSETTO:+0000
TZNAME:GMT
DTSTART:20241027T010000
END:STANDARD
BEGIN:DAYLIGHT
TZOFFSETFROM:+0000
TZOFFSETTO:+0100
TZNAME:BST
DTSTART:20250330T010000
END:DAYLIGHT
BEGIN:STANDARD
TZOFFSETFROM:+0100
TZOFFSETTO:+0000
TZNAME:GMT
DTSTART:20251026T010000
END:STANDARD
BEGIN:DAYLIGHT
TZOFFSETFROM:+0000
TZOFFSETTO:+0100
TZNAME:BST
DTSTART:20260329T010000
END:DAYLIGHT
BEGIN:STANDARD
TZOFFSETFROM:+0100
TZOFFSETTO:+0000
TZNAME:GMT
DTSTART:20261025T010000
END:STANDARD
END:VTIMEZONE
BEGIN:VEVENT
DTSTART;VALUE=DATE:20250628
DTEND;VALUE=DATE:20250629
DTSTAMP:20260424T211231
CREATED:20250330T120549Z
LAST-MODIFIED:20250404T154945Z
UID:10133-1751068800-1751155199@www.girlguidingsurreyeast.org.uk
SUMMARY:Leadership Development Day - June
DESCRIPTION:This is the chance for Leaders in Training to complete all or any of the 5 compulsory trainings as part of the Leadership Development Programme\, face to face and in a fun\, informal environment.\nThis is a joint training with Surrey West- please book here \nhttps://ti.to/girlguiding-surrey-west/ldp-day-june
URL:https://www.girlguidingsurreyeast.org.uk/event/leadership-development-day-june/
LOCATION:Woking Community Building\, Hoe Valley Community BUilding\, Woking\, GU229BA\, United Kingdom
CATEGORIES:Leader Development,Training
ATTACH;FMTTYPE=image/jpeg:https://www.girlguidingsurreyeast.org.uk/wp-content/uploads/sites/2/2021/09/Training-scaled.jpg
ORGANIZER;CN="Lorna Smith":MAILTO:surreyeasttraining@gmail.com
END:VEVENT
END:VCALENDAR