BEGIN:VCALENDAR
VERSION:2.0
PRODID:-//Girl Guiding Surrey East - ECPv6.15.20//NONSGML v1.0//EN
CALSCALE:GREGORIAN
METHOD:PUBLISH
X-ORIGINAL-URL:https://www.girlguidingsurreyeast.org.uk
X-WR-CALDESC:Events for Girl Guiding Surrey East
REFRESH-INTERVAL;VALUE=DURATION:PT1H
X-Robots-Tag:noindex
X-PUBLISHED-TTL:PT1H
BEGIN:VTIMEZONE
TZID:Europe/London
BEGIN:DAYLIGHT
TZOFFSETFROM:+0000
TZOFFSETTO:+0100
TZNAME:BST
DTSTART:20240331T010000
END:DAYLIGHT
BEGIN:STANDARD
TZOFFSETFROM:+0100
TZOFFSETTO:+0000
TZNAME:GMT
DTSTART:20241027T010000
END:STANDARD
BEGIN:DAYLIGHT
TZOFFSETFROM:+0000
TZOFFSETTO:+0100
TZNAME:BST
DTSTART:20250330T010000
END:DAYLIGHT
BEGIN:STANDARD
TZOFFSETFROM:+0100
TZOFFSETTO:+0000
TZNAME:GMT
DTSTART:20251026T010000
END:STANDARD
BEGIN:DAYLIGHT
TZOFFSETFROM:+0000
TZOFFSETTO:+0100
TZNAME:BST
DTSTART:20260329T010000
END:DAYLIGHT
BEGIN:STANDARD
TZOFFSETFROM:+0100
TZOFFSETTO:+0000
TZNAME:GMT
DTSTART:20261025T010000
END:STANDARD
END:VTIMEZONE
BEGIN:VEVENT
DTSTART;TZID=Europe/London:20250924T190000
DTEND;TZID=Europe/London:20250924T210000
DTSTAMP:20260424T155611
CREATED:20250813T212558Z
LAST-MODIFIED:20250922T210619Z
UID:10439-1758740400-1758747600@www.girlguidingsurreyeast.org.uk
SUMMARY:First Response Blended Learning 2 hour Practical Session
DESCRIPTION:This is the two hour face to face session for the  First Response Blended Learning.  You will also need to complete modules 2 & 3 via interactive webinars ( to be booked separately) in addition to the e-learning module on the Learning Platform. \nAll modules need to be completed within three months. \nPlease wear comfortable guiding wear.
URL:https://www.girlguidingsurreyeast.org.uk/event/first-response-blended-learning-2-hour-practical-session/
LOCATION:Redhill Methodist Church\, Gloucester Road\, Redhill\, RH1 1BP
CATEGORIES:First Response
ATTACH;FMTTYPE=image/jpeg:https://www.girlguidingsurreyeast.org.uk/wp-content/uploads/sites/2/2025/01/First-Aid-Event1-e1755102402769.jpg
ORGANIZER;CN="Maria Young":MAILTO:surreyeastggfirstresponse@gmail.com
END:VEVENT
END:VCALENDAR