BEGIN:VCALENDAR
VERSION:2.0
PRODID:-//Girl Guiding Surrey East - ECPv6.15.20//NONSGML v1.0//EN
CALSCALE:GREGORIAN
METHOD:PUBLISH
X-WR-CALNAME:Girl Guiding Surrey East
X-ORIGINAL-URL:https://www.girlguidingsurreyeast.org.uk
X-WR-CALDESC:Events for Girl Guiding Surrey East
REFRESH-INTERVAL;VALUE=DURATION:PT1H
X-Robots-Tag:noindex
X-PUBLISHED-TTL:PT1H
BEGIN:VTIMEZONE
TZID:Europe/London
BEGIN:DAYLIGHT
TZOFFSETFROM:+0000
TZOFFSETTO:+0100
TZNAME:BST
DTSTART:20240331T010000
END:DAYLIGHT
BEGIN:STANDARD
TZOFFSETFROM:+0100
TZOFFSETTO:+0000
TZNAME:GMT
DTSTART:20241027T010000
END:STANDARD
BEGIN:DAYLIGHT
TZOFFSETFROM:+0000
TZOFFSETTO:+0100
TZNAME:BST
DTSTART:20250330T010000
END:DAYLIGHT
BEGIN:STANDARD
TZOFFSETFROM:+0100
TZOFFSETTO:+0000
TZNAME:GMT
DTSTART:20251026T010000
END:STANDARD
BEGIN:DAYLIGHT
TZOFFSETFROM:+0000
TZOFFSETTO:+0100
TZNAME:BST
DTSTART:20260329T010000
END:DAYLIGHT
BEGIN:STANDARD
TZOFFSETFROM:+0100
TZOFFSETTO:+0000
TZNAME:GMT
DTSTART:20261025T010000
END:STANDARD
END:VTIMEZONE
BEGIN:VEVENT
DTSTART;TZID=Europe/London:20251007T193000
DTEND;TZID=Europe/London:20251007T213000
DTSTAMP:20260424T140648
CREATED:20250813T213104Z
LAST-MODIFIED:20251009T130604Z
UID:10446-1759865400-1759872600@www.girlguidingsurreyeast.org.uk
SUMMARY:First Response Blended Learning Sessions 2  & 3  -7th & 21st October 2025
DESCRIPTION:An interactive webinar First Response course running virtually on zoom over two evenings. You will need to attend both sessions. \nSession 2     7.30 – 9.30 p.m. Tuesday 7th October 2025 \nSession 3     7.30 – 9.30 p.m. Tuesday 21st October 2025 \nYou will receive a zoom link approximately a week before the first session. \nYou will also need to complete  the practical face to face module (to be booked separately) and the e-learning module on the Learning Platform. \nAll modules need to be completed within three months.
URL:https://www.girlguidingsurreyeast.org.uk/event/first-response-blended-learning-sessions-2-3-7th-21st-october-2025/
LOCATION:Surrey
CATEGORIES:First Response
ATTACH;FMTTYPE=image/jpeg:https://www.girlguidingsurreyeast.org.uk/wp-content/uploads/sites/2/2022/01/First-Response-Dental.jpg
ORGANIZER;CN="Maria Young":MAILTO:surreyeastggfirstresponse@gmail.com
END:VEVENT
END:VCALENDAR