BEGIN:VCALENDAR
VERSION:2.0
PRODID:-//Girl Guiding Surrey East - ECPv6.15.20//NONSGML v1.0//EN
CALSCALE:GREGORIAN
METHOD:PUBLISH
X-ORIGINAL-URL:https://www.girlguidingsurreyeast.org.uk
X-WR-CALDESC:Events for Girl Guiding Surrey East
REFRESH-INTERVAL;VALUE=DURATION:PT1H
X-Robots-Tag:noindex
X-PUBLISHED-TTL:PT1H
BEGIN:VTIMEZONE
TZID:Europe/London
BEGIN:DAYLIGHT
TZOFFSETFROM:+0000
TZOFFSETTO:+0100
TZNAME:BST
DTSTART:20250330T010000
END:DAYLIGHT
BEGIN:STANDARD
TZOFFSETFROM:+0100
TZOFFSETTO:+0000
TZNAME:GMT
DTSTART:20251026T010000
END:STANDARD
BEGIN:DAYLIGHT
TZOFFSETFROM:+0000
TZOFFSETTO:+0100
TZNAME:BST
DTSTART:20260329T010000
END:DAYLIGHT
BEGIN:STANDARD
TZOFFSETFROM:+0100
TZOFFSETTO:+0000
TZNAME:GMT
DTSTART:20261025T010000
END:STANDARD
BEGIN:DAYLIGHT
TZOFFSETFROM:+0000
TZOFFSETTO:+0100
TZNAME:BST
DTSTART:20270328T010000
END:DAYLIGHT
BEGIN:STANDARD
TZOFFSETFROM:+0100
TZOFFSETTO:+0000
TZNAME:GMT
DTSTART:20271031T010000
END:STANDARD
END:VTIMEZONE
BEGIN:VEVENT
DTSTART;VALUE=DATE:20260307
DTEND;VALUE=DATE:20260308
DTSTAMP:20260424T051600
CREATED:20250402T192755Z
LAST-MODIFIED:20250925T203818Z
UID:10143-1772841600-1772927999@www.girlguidingsurreyeast.org.uk
SUMMARY:Residential Qualification Training Day
DESCRIPTION:Do you wish to find out how to take your Rainbows\, Brownies\, Guides or Rangers on a residential adventure (camp or indoor)? \nWould you like to take your Patrol Camp Permit or Lead Away Permit? \nCome to Faurefold and meet leaders in a similar position and discover the process for taking girls on residential experiences. \nWe will cover the paperwork\, processes and policies and the practical arrangements for running your own residential with young members. The training is free but you will need your own books (details supplied on booking.)
URL:https://www.girlguidingsurreyeast.org.uk/event/residential-qualification-training-day/
LOCATION:Faurefold\, Lince Lane\, Westcott\, Surrey\, RH4 3LX\, United Kingdom
CATEGORIES:Going Away with Scheme,Training
ATTACH;FMTTYPE=image/jpeg:https://www.girlguidingsurreyeast.org.uk/wp-content/uploads/sites/2/2021/07/Residential-Campsites.jpg
ORGANIZER;CN="Jane Luff":MAILTO:Jane.luff8@googlemail.com
END:VEVENT
END:VCALENDAR