BEGIN:VCALENDAR
VERSION:2.0
PRODID:-//Girl Guiding Surrey East - ECPv6.15.20//NONSGML v1.0//EN
CALSCALE:GREGORIAN
METHOD:PUBLISH
X-ORIGINAL-URL:https://www.girlguidingsurreyeast.org.uk
X-WR-CALDESC:Events for Girl Guiding Surrey East
REFRESH-INTERVAL;VALUE=DURATION:PT1H
X-Robots-Tag:noindex
X-PUBLISHED-TTL:PT1H
BEGIN:VTIMEZONE
TZID:Europe/London
BEGIN:DAYLIGHT
TZOFFSETFROM:+0000
TZOFFSETTO:+0100
TZNAME:BST
DTSTART:20250330T010000
END:DAYLIGHT
BEGIN:STANDARD
TZOFFSETFROM:+0100
TZOFFSETTO:+0000
TZNAME:GMT
DTSTART:20251026T010000
END:STANDARD
BEGIN:DAYLIGHT
TZOFFSETFROM:+0000
TZOFFSETTO:+0100
TZNAME:BST
DTSTART:20260329T010000
END:DAYLIGHT
BEGIN:STANDARD
TZOFFSETFROM:+0100
TZOFFSETTO:+0000
TZNAME:GMT
DTSTART:20261025T010000
END:STANDARD
BEGIN:DAYLIGHT
TZOFFSETFROM:+0000
TZOFFSETTO:+0100
TZNAME:BST
DTSTART:20270328T010000
END:DAYLIGHT
BEGIN:STANDARD
TZOFFSETFROM:+0100
TZOFFSETTO:+0000
TZNAME:GMT
DTSTART:20271031T010000
END:STANDARD
END:VTIMEZONE
BEGIN:VEVENT
DTSTART;TZID=Europe/London:20260616T193000
DTEND;TZID=Europe/London:20260616T220000
DTSTAMP:20260423T233007
CREATED:20250108T193203Z
LAST-MODIFIED:20260106T104334Z
UID:9770-1781638200-1781647200@www.girlguidingsurreyeast.org.uk
SUMMARY:County Small Exec - June
DESCRIPTION:Meeting for the County Small Exec which includes the trustees: \n\nCounty Commissioner\nAssistant County Commissioner(s)\nDivision Commissioners of the six Divisions which make up Girlguiding Surrey East\nCounty Training Adviser\nCounty Outdoor Activity Adviser\nCounty Treasurer.\n\nIt also includes the County Administrator(s). \nOur County President\, County Trefoil Chair and and county appointment holders and advisers and any guest speakers may be invited to attend to represent specific agenda items\, agreed in advance with the County Commissioner.
URL:https://www.girlguidingsurreyeast.org.uk/event/county-small-exec-june-3/
LOCATION:Surrey
CATEGORIES:County Executive
ORGANIZER;CN="County administrator - Julia Bennett":MAILTO:julia.bennett@ggse.org.uk
END:VEVENT
END:VCALENDAR