BEGIN:VCALENDAR
VERSION:2.0
PRODID:-//Girl Guiding Surrey East - ECPv6.15.17.1//NONSGML v1.0//EN
CALSCALE:GREGORIAN
METHOD:PUBLISH
X-ORIGINAL-URL:https://www.girlguidingsurreyeast.org.uk
X-WR-CALDESC:Events for Girl Guiding Surrey East
REFRESH-INTERVAL;VALUE=DURATION:PT1H
X-Robots-Tag:noindex
X-PUBLISHED-TTL:PT1H
BEGIN:VTIMEZONE
TZID:Europe/London
BEGIN:DAYLIGHT
TZOFFSETFROM:+0000
TZOFFSETTO:+0100
TZNAME:BST
DTSTART:20240331T010000
END:DAYLIGHT
BEGIN:STANDARD
TZOFFSETFROM:+0100
TZOFFSETTO:+0000
TZNAME:GMT
DTSTART:20241027T010000
END:STANDARD
BEGIN:DAYLIGHT
TZOFFSETFROM:+0000
TZOFFSETTO:+0100
TZNAME:BST
DTSTART:20250330T010000
END:DAYLIGHT
BEGIN:STANDARD
TZOFFSETFROM:+0100
TZOFFSETTO:+0000
TZNAME:GMT
DTSTART:20251026T010000
END:STANDARD
BEGIN:DAYLIGHT
TZOFFSETFROM:+0000
TZOFFSETTO:+0100
TZNAME:BST
DTSTART:20260329T010000
END:DAYLIGHT
BEGIN:STANDARD
TZOFFSETFROM:+0100
TZOFFSETTO:+0000
TZNAME:GMT
DTSTART:20261025T010000
END:STANDARD
END:VTIMEZONE
BEGIN:VEVENT
DTSTART;TZID=Europe/London:20250506T190000
DTEND;TZID=Europe/London:20250506T200000
DTSTAMP:20260421T215149
CREATED:20250402T192405Z
LAST-MODIFIED:20250402T192405Z
UID:10140-1746558000-1746561600@www.girlguidingsurreyeast.org.uk
SUMMARY:Faurefold Low Ropes Team Challenge – Leaders briefing- May Evening
DESCRIPTION:Faurefold are pleased to be able to open a new Low Ropes Team Challenge Course at the site in the Spring of 2023. The course is made up of 8 different elements which can be adapted for different age groups and abilities. The course will not only be open to those who camp or holiday at the site but also for units who want a fun and exciting evening activity. \nIn order to use the Low Ropes Course one group leader must undertake this short briefing session. Only certified leaders will be able to book an activity session on the low rope challenge.
URL:https://www.girlguidingsurreyeast.org.uk/event/faurefold-low-ropes-team-challenge-leaders-briefing-may-evening/
LOCATION:Faurefold\, Lince Lane\, Westcott\, Surrey\, RH4 3LX\, United Kingdom
CATEGORIES:Faurefold Low Ropes,Training
ATTACH;FMTTYPE=image/jpeg:https://www.girlguidingsurreyeast.org.uk/wp-content/uploads/sites/2/2023/02/low-rope-1.jpg
ORGANIZER;CN="Lorna Smith":MAILTO:surreyeasttraining@gmail.com
END:VEVENT
BEGIN:VEVENT
DTSTART;TZID=Europe/London:20250517T090000
DTEND;TZID=Europe/London:20250517T160000
DTSTAMP:20260421T215149
CREATED:20250201T130727Z
LAST-MODIFIED:20250514T204940Z
UID:9944-1747472400-1747497600@www.girlguidingsurreyeast.org.uk
SUMMARY:First Response - one day course
DESCRIPTION:This one day full course includes all the modules  except the e-learning module. \n You will need to complete this during the week before you attend the course via the Girlguiding Learning Platform. \nTea & coffee will be provided – please bring a packed lunch. \nPlease wear comfortable guiding uniform.
URL:https://www.girlguidingsurreyeast.org.uk/event/first-response-one-day-course/
LOCATION:Empire Hall\, Victoria Road\, Horley\, Surrey\, RH6 7BF\, United Kingdom
CATEGORIES:First Response,Training
ATTACH;FMTTYPE=image/jpeg:https://www.girlguidingsurreyeast.org.uk/wp-content/uploads/sites/2/2021/07/First-Response-Outdoor-Practical.jpg
ORGANIZER;CN="Maria Young":MAILTO:surreyeastggfirstresponse@gmail.com
END:VEVENT
END:VCALENDAR