BEGIN:VCALENDAR
VERSION:2.0
PRODID:-//Girl Guiding Surrey East - ECPv6.15.17.1//NONSGML v1.0//EN
CALSCALE:GREGORIAN
METHOD:PUBLISH
X-ORIGINAL-URL:https://www.girlguidingsurreyeast.org.uk
X-WR-CALDESC:Events for Girl Guiding Surrey East
REFRESH-INTERVAL;VALUE=DURATION:PT1H
X-Robots-Tag:noindex
X-PUBLISHED-TTL:PT1H
BEGIN:VTIMEZONE
TZID:Europe/London
BEGIN:DAYLIGHT
TZOFFSETFROM:+0000
TZOFFSETTO:+0100
TZNAME:BST
DTSTART:20240331T010000
END:DAYLIGHT
BEGIN:STANDARD
TZOFFSETFROM:+0100
TZOFFSETTO:+0000
TZNAME:GMT
DTSTART:20241027T010000
END:STANDARD
BEGIN:DAYLIGHT
TZOFFSETFROM:+0000
TZOFFSETTO:+0100
TZNAME:BST
DTSTART:20250330T010000
END:DAYLIGHT
BEGIN:STANDARD
TZOFFSETFROM:+0100
TZOFFSETTO:+0000
TZNAME:GMT
DTSTART:20251026T010000
END:STANDARD
BEGIN:DAYLIGHT
TZOFFSETFROM:+0000
TZOFFSETTO:+0100
TZNAME:BST
DTSTART:20260329T010000
END:DAYLIGHT
BEGIN:STANDARD
TZOFFSETFROM:+0100
TZOFFSETTO:+0000
TZNAME:GMT
DTSTART:20261025T010000
END:STANDARD
END:VTIMEZONE
BEGIN:VEVENT
DTSTART;TZID=Europe/London:20250924T190000
DTEND;TZID=Europe/London:20250924T210000
DTSTAMP:20260421T143747
CREATED:20250813T212558Z
LAST-MODIFIED:20250922T210619Z
UID:10439-1758740400-1758747600@www.girlguidingsurreyeast.org.uk
SUMMARY:First Response Blended Learning 2 hour Practical Session
DESCRIPTION:This is the two hour face to face session for the  First Response Blended Learning.  You will also need to complete modules 2 & 3 via interactive webinars ( to be booked separately) in addition to the e-learning module on the Learning Platform. \nAll modules need to be completed within three months. \nPlease wear comfortable guiding wear.
URL:https://www.girlguidingsurreyeast.org.uk/event/first-response-blended-learning-2-hour-practical-session/
LOCATION:Redhill Methodist Church\, Gloucester Road\, Redhill\, RH1 1BP
CATEGORIES:First Response
ATTACH;FMTTYPE=image/jpeg:https://www.girlguidingsurreyeast.org.uk/wp-content/uploads/sites/2/2025/01/First-Aid-Event1-e1755102402769.jpg
ORGANIZER;CN="Maria Young":MAILTO:surreyeastggfirstresponse@gmail.com
END:VEVENT
BEGIN:VEVENT
DTSTART;TZID=Europe/London:20250928T090000
DTEND;TZID=Europe/London:20250928T160000
DTSTAMP:20260421T143747
CREATED:20250513T205928Z
LAST-MODIFIED:20250905T095051Z
UID:10205-1759050000-1759075200@www.girlguidingsurreyeast.org.uk
SUMMARY:First Response one day course
DESCRIPTION:This one day First Response course covers all the modules except the e-learning module. You will need to complete this during the week before you attend the course via the learning platform. \nTea and coffee will be provided – please bring a packed lunch. \nPlease wear comfortable guiding wear.
URL:https://www.girlguidingsurreyeast.org.uk/event/first-response-one-day-course-2/
LOCATION:Faurefold\, Lince Lane\, Westcott\, Surrey\, RH4 3LX\, United Kingdom
CATEGORIES:First Response,Training
ATTACH;FMTTYPE=image/jpeg:https://www.girlguidingsurreyeast.org.uk/wp-content/uploads/sites/2/2021/09/First-Aid-training-banner.jpg
ORGANIZER;CN="Maria Young":MAILTO:surreyeastggfirstresponse@gmail.com
END:VEVENT
BEGIN:VEVENT
DTSTART;TZID=Europe/London:20250928T110000
DTEND;TZID=Europe/London:20250928T120000
DTSTAMP:20260421T143747
CREATED:20250514T204632Z
LAST-MODIFIED:20250514T204632Z
UID:10240-1759057200-1759060800@www.girlguidingsurreyeast.org.uk
SUMMARY:Faurefold Low Ropes Team Challenge – Leaders briefing- September- Day time - weekend
DESCRIPTION:Faurefold are pleased to be able to open a new Low Ropes Team Challenge Course at the site in the Spring of 2023. The course is made up of 8 different elements which can be adapted for different age groups and abilities. The course will not only be open to those who camp or holiday at the site but also for units who want a fun and exciting evening activity. \nIn order to use the Low Ropes Course one group leader must undertake this short briefing session. Only certified leaders will be able to book an activity session on the low rope challenge.
URL:https://www.girlguidingsurreyeast.org.uk/event/faurefold-low-ropes-team-challenge-leaders-briefing-september-day-time-weekend/
LOCATION:Faurefold\, Lince Lane\, Westcott\, Surrey\, RH4 3LX\, United Kingdom
CATEGORIES:Faurefold Low Ropes,Training
ATTACH;FMTTYPE=image/jpeg:https://www.girlguidingsurreyeast.org.uk/wp-content/uploads/sites/2/2023/02/Low-Challenge-Course.jpg
ORGANIZER;CN="Jane Luff":MAILTO:Jane.luff8@googlemail.com
END:VEVENT
END:VCALENDAR