BEGIN:VCALENDAR
VERSION:2.0
PRODID:-//Girl Guiding Surrey East - ECPv6.15.17.1//NONSGML v1.0//EN
CALSCALE:GREGORIAN
METHOD:PUBLISH
X-WR-CALNAME:Girl Guiding Surrey East
X-ORIGINAL-URL:https://www.girlguidingsurreyeast.org.uk
X-WR-CALDESC:Events for Girl Guiding Surrey East
REFRESH-INTERVAL;VALUE=DURATION:PT1H
X-Robots-Tag:noindex
X-PUBLISHED-TTL:PT1H
BEGIN:VTIMEZONE
TZID:Europe/London
BEGIN:DAYLIGHT
TZOFFSETFROM:+0000
TZOFFSETTO:+0100
TZNAME:BST
DTSTART:20240331T010000
END:DAYLIGHT
BEGIN:STANDARD
TZOFFSETFROM:+0100
TZOFFSETTO:+0000
TZNAME:GMT
DTSTART:20241027T010000
END:STANDARD
BEGIN:DAYLIGHT
TZOFFSETFROM:+0000
TZOFFSETTO:+0100
TZNAME:BST
DTSTART:20250330T010000
END:DAYLIGHT
BEGIN:STANDARD
TZOFFSETFROM:+0100
TZOFFSETTO:+0000
TZNAME:GMT
DTSTART:20251026T010000
END:STANDARD
BEGIN:DAYLIGHT
TZOFFSETFROM:+0000
TZOFFSETTO:+0100
TZNAME:BST
DTSTART:20260329T010000
END:DAYLIGHT
BEGIN:STANDARD
TZOFFSETFROM:+0100
TZOFFSETTO:+0000
TZNAME:GMT
DTSTART:20261025T010000
END:STANDARD
END:VTIMEZONE
BEGIN:VEVENT
DTSTART;TZID=Europe/London:20251122T090000
DTEND;TZID=Europe/London:20251122T160000
DTSTAMP:20260421T110416
CREATED:20250925T195429Z
LAST-MODIFIED:20251117T161456Z
UID:10562-1763802000-1763827200@www.girlguidingsurreyeast.org.uk
SUMMARY:First Response one day course - Oxted
DESCRIPTION:This one day First Response course covers all the modules except the e-learning module. You will need to complete this during the week before you attend the course via the learning platform. \nTea and coffee will be provided – please bring a packed lunch. \nPlease wear comfortable guiding wear.
URL:https://www.girlguidingsurreyeast.org.uk/event/first-response-one-day-course-oxted/
LOCATION:Oxted Guide Hut\, Uvedale Road\, Oxted\, Surrey\, RH8 0EW\, United Kingdom
CATEGORIES:First Response,Training
ATTACH;FMTTYPE=image/jpeg:https://www.girlguidingsurreyeast.org.uk/wp-content/uploads/sites/2/2021/10/Training-at-Faurefold.jpg
ORGANIZER;CN="Maria Young":MAILTO:surreyeastggfirstresponse@gmail.com
END:VEVENT
END:VCALENDAR