BEGIN:VCALENDAR
VERSION:2.0
PRODID:-//Girl Guiding Surrey East - ECPv6.15.17.1//NONSGML v1.0//EN
CALSCALE:GREGORIAN
METHOD:PUBLISH
X-ORIGINAL-URL:https://www.girlguidingsurreyeast.org.uk
X-WR-CALDESC:Events for Girl Guiding Surrey East
REFRESH-INTERVAL;VALUE=DURATION:PT1H
X-Robots-Tag:noindex
X-PUBLISHED-TTL:PT1H
BEGIN:VTIMEZONE
TZID:Europe/London
BEGIN:DAYLIGHT
TZOFFSETFROM:+0000
TZOFFSETTO:+0100
TZNAME:BST
DTSTART:20250330T010000
END:DAYLIGHT
BEGIN:STANDARD
TZOFFSETFROM:+0100
TZOFFSETTO:+0000
TZNAME:GMT
DTSTART:20251026T010000
END:STANDARD
BEGIN:DAYLIGHT
TZOFFSETFROM:+0000
TZOFFSETTO:+0100
TZNAME:BST
DTSTART:20260329T010000
END:DAYLIGHT
BEGIN:STANDARD
TZOFFSETFROM:+0100
TZOFFSETTO:+0000
TZNAME:GMT
DTSTART:20261025T010000
END:STANDARD
BEGIN:DAYLIGHT
TZOFFSETFROM:+0000
TZOFFSETTO:+0100
TZNAME:BST
DTSTART:20270328T010000
END:DAYLIGHT
BEGIN:STANDARD
TZOFFSETFROM:+0100
TZOFFSETTO:+0000
TZNAME:GMT
DTSTART:20271031T010000
END:STANDARD
END:VTIMEZONE
BEGIN:VEVENT
DTSTART;TZID=Europe/London:20260117T090000
DTEND;TZID=Europe/London:20260117T160000
DTSTAMP:20260421T101231
CREATED:20251026T103751Z
LAST-MODIFIED:20251128T141731Z
UID:10602-1768640400-1768665600@www.girlguidingsurreyeast.org.uk
SUMMARY:First Response Full Day - Horley
DESCRIPTION:This one day First Response Course covers all the modules except the e-learning module. \nYou will need to complete this during the week before you attend the course via the Learning Platform. \nPlease bring a packed lunch – tea and coffee will be provided. \nPlease wear comfortable guiding wear. \nThere is very limited parking at The Empire Hall\, parking is available in nearby streets or in the town car park.
URL:https://www.girlguidingsurreyeast.org.uk/event/first-response-full-day-horley/
LOCATION:Empire Hall\, Victoria Road\, Horley\, Surrey\, RH6 7BF\, United Kingdom
CATEGORIES:First Response
ATTACH;FMTTYPE=image/jpeg:https://www.girlguidingsurreyeast.org.uk/wp-content/uploads/sites/2/2025/01/First-Aid-Event1-e1755102402769.jpg
ORGANIZER;CN="Maria Young":MAILTO:surreyeastggfirstresponse@gmail.com
END:VEVENT
END:VCALENDAR