BEGIN:VCALENDAR
VERSION:2.0
PRODID:-//Girl Guiding Surrey East - ECPv6.15.20//NONSGML v1.0//EN
CALSCALE:GREGORIAN
METHOD:PUBLISH
X-WR-CALNAME:Girl Guiding Surrey East
X-ORIGINAL-URL:https://www.girlguidingsurreyeast.org.uk
X-WR-CALDESC:Events for Girl Guiding Surrey East
REFRESH-INTERVAL;VALUE=DURATION:PT1H
X-Robots-Tag:noindex
X-PUBLISHED-TTL:PT1H
BEGIN:VTIMEZONE
TZID:Europe/London
BEGIN:DAYLIGHT
TZOFFSETFROM:+0000
TZOFFSETTO:+0100
TZNAME:BST
DTSTART:20240331T010000
END:DAYLIGHT
BEGIN:STANDARD
TZOFFSETFROM:+0100
TZOFFSETTO:+0000
TZNAME:GMT
DTSTART:20241027T010000
END:STANDARD
BEGIN:DAYLIGHT
TZOFFSETFROM:+0000
TZOFFSETTO:+0100
TZNAME:BST
DTSTART:20250330T010000
END:DAYLIGHT
BEGIN:STANDARD
TZOFFSETFROM:+0100
TZOFFSETTO:+0000
TZNAME:GMT
DTSTART:20251026T010000
END:STANDARD
BEGIN:DAYLIGHT
TZOFFSETFROM:+0000
TZOFFSETTO:+0100
TZNAME:BST
DTSTART:20260329T010000
END:DAYLIGHT
BEGIN:STANDARD
TZOFFSETFROM:+0100
TZOFFSETTO:+0000
TZNAME:GMT
DTSTART:20261025T010000
END:STANDARD
END:VTIMEZONE
BEGIN:VEVENT
DTSTART;TZID=Europe/London:20250702T193000
DTEND;TZID=Europe/London:20250702T210000
DTSTAMP:20260425T155414
CREATED:20250514T203500Z
LAST-MODIFIED:20250514T204149Z
UID:10237-1751484600-1751490000@www.girlguidingsurreyeast.org.uk
SUMMARY:Surrey East County mentor drop in session
DESCRIPTION:Are you a mentor supporting leaders in training? \nYou are invited to attend an informal drop in session to refresh your knowledge\, share your celebrations and best practise and seek guidance and support for your challenges.
URL:https://www.girlguidingsurreyeast.org.uk/event/surrey-east-county-mentor-drop-in-session/
LOCATION:ZOOM Online
CATEGORIES:Leader Development,Training
ATTACH;FMTTYPE=image/jpeg:https://www.girlguidingsurreyeast.org.uk/wp-content/uploads/sites/2/2022/10/LIT-rec-poor.jpg
ORGANIZER;CN="Lorna Smith":MAILTO:surreyeasttraining@gmail.com
END:VEVENT
BEGIN:VEVENT
DTSTART;TZID=Europe/London:20250702T193000
DTEND;TZID=Europe/London:20250702T210000
DTSTAMP:20260425T155414
CREATED:20250514T202942Z
LAST-MODIFIED:20250514T202942Z
UID:10233-1751484600-1751490000@www.girlguidingsurreyeast.org.uk
SUMMARY:Mentor training - for leaders who would like to mentor Leaders in Training
DESCRIPTION:Are you interested in supporting a leader in training? Come along and find out more about how to become a mentor
URL:https://www.girlguidingsurreyeast.org.uk/event/mentor-training-for-leaders-who-would-like-to-mentor-leaders-in-training/
LOCATION:ZOOM Online
CATEGORIES:Leader Development,Training
ATTACH;FMTTYPE=image/jpeg:https://www.girlguidingsurreyeast.org.uk/wp-content/uploads/sites/2/2021/10/Adult-Zoom.jpg
ORGANIZER;CN="Lorna Smith":MAILTO:surreyeasttraining@gmail.com
END:VEVENT
BEGIN:VEVENT
DTSTART;VALUE=DATE:20250628
DTEND;VALUE=DATE:20250629
DTSTAMP:20260425T155414
CREATED:20250330T120549Z
LAST-MODIFIED:20250404T154945Z
UID:10133-1751068800-1751155199@www.girlguidingsurreyeast.org.uk
SUMMARY:Leadership Development Day - June
DESCRIPTION:This is the chance for Leaders in Training to complete all or any of the 5 compulsory trainings as part of the Leadership Development Programme\, face to face and in a fun\, informal environment.\nThis is a joint training with Surrey West- please book here \nhttps://ti.to/girlguiding-surrey-west/ldp-day-june
URL:https://www.girlguidingsurreyeast.org.uk/event/leadership-development-day-june/
LOCATION:Woking Community Building\, Hoe Valley Community BUilding\, Woking\, GU229BA\, United Kingdom
CATEGORIES:Leader Development,Training
ATTACH;FMTTYPE=image/jpeg:https://www.girlguidingsurreyeast.org.uk/wp-content/uploads/sites/2/2021/09/Training-scaled.jpg
ORGANIZER;CN="Lorna Smith":MAILTO:surreyeasttraining@gmail.com
END:VEVENT
BEGIN:VEVENT
DTSTART;TZID=Europe/London:20250614T090000
DTEND;TZID=Europe/London:20250614T170000
DTSTAMP:20260425T155414
CREATED:20240705T102653Z
LAST-MODIFIED:20240705T111346Z
UID:9412-1749891600-1749920400@www.girlguidingsurreyeast.org.uk
SUMMARY:Bazzaz - Saturday 14th June 2025
DESCRIPTION:Bazzaz is an triennial activity day exclusively for all Rainbows and Beaver Scouts across Surrey. \n \nDetails to follow. \nIf you would like to join the committee for this event\, please contact surreyeastcc@btinternet.com. \n 
URL:https://www.girlguidingsurreyeast.org.uk/event/bazzaz-saturday-14th-june-2025/
LOCATION:Merrist Wood College\, Worplesdon\, Guildford \, Surrey\, GU3 3PE\, United Kingdom
CATEGORIES:Challenges,County Event
ATTACH;FMTTYPE=image/jpeg:https://www.girlguidingsurreyeast.org.uk/wp-content/uploads/sites/2/2021/09/bazzaz.jpg
END:VEVENT
BEGIN:VEVENT
DTSTART;TZID=Europe/London:20250610T180000
DTEND;TZID=Europe/London:20250610T190000
DTSTAMP:20260425T155414
CREATED:20250504T160616Z
LAST-MODIFIED:20250504T160715Z
UID:10178-1749578400-1749582000@www.girlguidingsurreyeast.org.uk
SUMMARY:Faurefold Low Ropes Team Challenge – Leaders briefing- June Evening
DESCRIPTION:Faurefold are pleased to be able to open a new Low Ropes Team Challenge Course at the site in the Spring of 2023. The course is made up of 8 different elements which can be adapted for different age groups and abilities. The course will not only be open to those who camp or holiday at the site but also for units who want a fun and exciting evening activity. \nIn order to use the Low Ropes Course one group leader must undertake this short briefing session. Only certified leaders will be able to book an activity session on the low rope challenge.
URL:https://www.girlguidingsurreyeast.org.uk/event/faurefold-low-ropes-team-challenge-leaders-briefing-june-evening/
LOCATION:Faurefold\, Lince Lane\, Westcott\, Surrey\, RH4 3LX\, United Kingdom
CATEGORIES:Training
ATTACH;FMTTYPE=image/jpeg:https://www.girlguidingsurreyeast.org.uk/wp-content/uploads/sites/2/2023/02/low-rope-1.jpg
ORGANIZER;CN="Jane Luff":MAILTO:Jane.luff8@googlemail.com
END:VEVENT
BEGIN:VEVENT
DTSTART;TZID=Europe/London:20250517T090000
DTEND;TZID=Europe/London:20250517T160000
DTSTAMP:20260425T155414
CREATED:20250201T130727Z
LAST-MODIFIED:20250514T204940Z
UID:9944-1747472400-1747497600@www.girlguidingsurreyeast.org.uk
SUMMARY:First Response - one day course
DESCRIPTION:This one day full course includes all the modules  except the e-learning module. \n You will need to complete this during the week before you attend the course via the Girlguiding Learning Platform. \nTea & coffee will be provided – please bring a packed lunch. \nPlease wear comfortable guiding uniform.
URL:https://www.girlguidingsurreyeast.org.uk/event/first-response-one-day-course/
LOCATION:Empire Hall\, Victoria Road\, Horley\, Surrey\, RH6 7BF\, United Kingdom
CATEGORIES:First Response,Training
ATTACH;FMTTYPE=image/jpeg:https://www.girlguidingsurreyeast.org.uk/wp-content/uploads/sites/2/2021/07/First-Response-Outdoor-Practical.jpg
ORGANIZER;CN="Maria Young":MAILTO:surreyeastggfirstresponse@gmail.com
END:VEVENT
BEGIN:VEVENT
DTSTART;TZID=Europe/London:20250510T090000
DTEND;TZID=Europe/London:20250510T163000
DTSTAMP:20260425T155414
CREATED:20250108T201749Z
LAST-MODIFIED:20250108T201749Z
UID:9778-1746867600-1746894600@www.girlguidingsurreyeast.org.uk
SUMMARY:Laser May-Hem 2025
DESCRIPTION:
URL:https://www.girlguidingsurreyeast.org.uk/event/laser-may-hem-2025/
LOCATION:Ardingly Show Ground\, Ardingly\, Haywards Heath\, Sussex\, RH17 6TL\, United Kingdom
CATEGORIES:County Event
ATTACH;FMTTYPE=image/jpeg:https://www.girlguidingsurreyeast.org.uk/wp-content/uploads/sites/2/2025/01/Capture.jpg
END:VEVENT
BEGIN:VEVENT
DTSTART;TZID=Europe/London:20250506T190000
DTEND;TZID=Europe/London:20250506T200000
DTSTAMP:20260425T155414
CREATED:20250402T192405Z
LAST-MODIFIED:20250402T192405Z
UID:10140-1746558000-1746561600@www.girlguidingsurreyeast.org.uk
SUMMARY:Faurefold Low Ropes Team Challenge – Leaders briefing- May Evening
DESCRIPTION:Faurefold are pleased to be able to open a new Low Ropes Team Challenge Course at the site in the Spring of 2023. The course is made up of 8 different elements which can be adapted for different age groups and abilities. The course will not only be open to those who camp or holiday at the site but also for units who want a fun and exciting evening activity. \nIn order to use the Low Ropes Course one group leader must undertake this short briefing session. Only certified leaders will be able to book an activity session on the low rope challenge.
URL:https://www.girlguidingsurreyeast.org.uk/event/faurefold-low-ropes-team-challenge-leaders-briefing-may-evening/
LOCATION:Faurefold\, Lince Lane\, Westcott\, Surrey\, RH4 3LX\, United Kingdom
CATEGORIES:Faurefold Low Ropes,Training
ATTACH;FMTTYPE=image/jpeg:https://www.girlguidingsurreyeast.org.uk/wp-content/uploads/sites/2/2023/02/low-rope-1.jpg
ORGANIZER;CN="Lorna Smith":MAILTO:surreyeasttraining@gmail.com
END:VEVENT
BEGIN:VEVENT
DTSTART;TZID=Europe/London:20250426T090000
DTEND;TZID=Europe/London:20250426T153000
DTSTAMP:20260425T155414
CREATED:20241006T201250Z
LAST-MODIFIED:20250322T110753Z
UID:9557-1745658000-1745681400@www.girlguidingsurreyeast.org.uk
SUMMARY:County Volunteers Together Celebration and Training Day
DESCRIPTION:All volunteers (include advisers\, leaders\, young leaders\, unit helpers) are invited to this year’s county training day “Volunteers together”.  All attendees will receive an exclusive badge! \nSaturday 26th April 9.00-3.30 at Horley Baptist church \nThis is an opportunity to try various skills builder activities and leave with the confidence to run them with your units. In addition you will think about how to adapt the activities for various situations\, such as non readers\, physical disability\, limited space\, no resources. You travel around the venue trying different programme themed activities and there will be a prize draw at the end.   \nAims \n\nTo bring leaders together\nTo share ideas\nTo give confidence to leaders in adapting unit meeting activities including reasonable adjustments \nTo have some activities with no resources to ‘fall back on’ when plans go wrong \nTo takeaway ideas and items to use in your unit. \n\nFinish the day with a celebratory cream tea with your guiding friends. \nA local volunteer shop will be at the event accepting pre orders of guiding shop items. \nAre you due to be presented with an award such as long service\, young leader or leadership development or going away with? Would you like it presented at this event\,  just let us know.
URL:https://www.girlguidingsurreyeast.org.uk/event/county-celebration-and-training-day/
LOCATION:Horley Baptist Church\, 289 Court Lodge Road\, Horley\, Surrey\, RH6 8RG\, United Kingdom
CATEGORIES:County Day,County Executive,Training
ATTACH;FMTTYPE=image/jpeg:https://www.girlguidingsurreyeast.org.uk/wp-content/uploads/sites/2/2025/01/Volunteers-together.jpeg
ORGANIZER;CN="Lorna Smith":MAILTO:surreyeasttraining@gmail.com
END:VEVENT
END:VCALENDAR