BEGIN:VCALENDAR
VERSION:2.0
PRODID:-//Girl Guiding Surrey East - ECPv6.15.20//NONSGML v1.0//EN
CALSCALE:GREGORIAN
METHOD:PUBLISH
X-ORIGINAL-URL:https://www.girlguidingsurreyeast.org.uk
X-WR-CALDESC:Events for Girl Guiding Surrey East
REFRESH-INTERVAL;VALUE=DURATION:PT1H
X-Robots-Tag:noindex
X-PUBLISHED-TTL:PT1H
BEGIN:VTIMEZONE
TZID:Europe/London
BEGIN:DAYLIGHT
TZOFFSETFROM:+0000
TZOFFSETTO:+0100
TZNAME:BST
DTSTART:20250330T010000
END:DAYLIGHT
BEGIN:STANDARD
TZOFFSETFROM:+0100
TZOFFSETTO:+0000
TZNAME:GMT
DTSTART:20251026T010000
END:STANDARD
BEGIN:DAYLIGHT
TZOFFSETFROM:+0000
TZOFFSETTO:+0100
TZNAME:BST
DTSTART:20260329T010000
END:DAYLIGHT
BEGIN:STANDARD
TZOFFSETFROM:+0100
TZOFFSETTO:+0000
TZNAME:GMT
DTSTART:20261025T010000
END:STANDARD
BEGIN:DAYLIGHT
TZOFFSETFROM:+0000
TZOFFSETTO:+0100
TZNAME:BST
DTSTART:20270328T010000
END:DAYLIGHT
BEGIN:STANDARD
TZOFFSETFROM:+0100
TZOFFSETTO:+0000
TZNAME:GMT
DTSTART:20271031T010000
END:STANDARD
END:VTIMEZONE
BEGIN:VEVENT
DTSTART;TZID=Europe/London:20260925T170000
DTEND;TZID=Europe/London:20260927T150000
DTSTAMP:20260424T125642
CREATED:20250205T215048Z
LAST-MODIFIED:20260108T165226Z
UID:9967-1790355600-1790521200@www.girlguidingsurreyeast.org.uk
SUMMARY:Surrey East Leaders Weekend 2026
DESCRIPTION:Join us for a weekend of fun and friendship\nOur county leaders’ weekend will be held at Youlbury Scout site\, based in Oxford\, costing £135 per head. This price includes all meals from Friday evening including Sunday lunch (some of which will be catered by us)\, plus 3 adventurous activities and a badge for all participants.  We have booked Bear’s Den\, a purpose-built lodge with en-suite rooms of 1\, 2 and 4 people. It includes a kitchen\, hall and drying room. If you would like to go please email Kate at kate.fowles@ggse.org.uk \nA deposit of £70 will be required by 6 March. Places are limited so book early to avoid disappointment.  Payment to be made to Girlguiding Surrey East sort code 40-52-40 and account number 00022824 and state the reference of LW Oxford.
URL:https://www.girlguidingsurreyeast.org.uk/event/surrey-east-leaders-weekend-2026/
LOCATION:Youlbury scout activity centre\, Boars Hill\, Oxford\, OX1 5HD\, United Kingdom
CATEGORIES:County Executive,Events
ATTACH;FMTTYPE=image/jpeg:https://www.girlguidingsurreyeast.org.uk/wp-content/uploads/sites/2/2026/01/Y-Bears-Den-960x580-1.jpg
ORGANIZER;CN="Kate Fowles":MAILTO:kate.fowles@ggse.org.uk
END:VEVENT
BEGIN:VEVENT
DTSTART;TZID=Europe/London:20261117T193000
DTEND;TZID=Europe/London:20261117T220000
DTSTAMP:20260424T125642
CREATED:20250108T193441Z
LAST-MODIFIED:20260106T104211Z
UID:9774-1794943800-1794952800@www.girlguidingsurreyeast.org.uk
SUMMARY:County Small Exec - November
DESCRIPTION:Meeting for the County Small Exec which includes the trustees: \n\nCounty Commissioner\nAssistant County Commissioner(s)\nDivision Commissioners of the six Divisions which make up Girlguiding Surrey East\nCounty Training Adviser\nCounty Outdoor Activity Adviser\nCounty Treasurer.\n\nIt also includes the County Administrator(s). \nOur County President\, County Trefoil Chair and and county appointment holders and advisers and any guest speakers may be invited to attend to represent specific agenda items\, agreed in advance with the County Commissioner.
URL:https://www.girlguidingsurreyeast.org.uk/event/county-small-exec-november-2/
LOCATION:Surrey
CATEGORIES:County Executive
END:VEVENT
END:VCALENDAR