BEGIN:VCALENDAR
VERSION:2.0
PRODID:-//Girl Guiding Surrey East - ECPv6.15.20//NONSGML v1.0//EN
CALSCALE:GREGORIAN
METHOD:PUBLISH
X-ORIGINAL-URL:https://www.girlguidingsurreyeast.org.uk
X-WR-CALDESC:Events for Girl Guiding Surrey East
REFRESH-INTERVAL;VALUE=DURATION:PT1H
X-Robots-Tag:noindex
X-PUBLISHED-TTL:PT1H
BEGIN:VTIMEZONE
TZID:Europe/London
BEGIN:DAYLIGHT
TZOFFSETFROM:+0000
TZOFFSETTO:+0100
TZNAME:BST
DTSTART:20250330T010000
END:DAYLIGHT
BEGIN:STANDARD
TZOFFSETFROM:+0100
TZOFFSETTO:+0000
TZNAME:GMT
DTSTART:20251026T010000
END:STANDARD
BEGIN:DAYLIGHT
TZOFFSETFROM:+0000
TZOFFSETTO:+0100
TZNAME:BST
DTSTART:20260329T010000
END:DAYLIGHT
BEGIN:STANDARD
TZOFFSETFROM:+0100
TZOFFSETTO:+0000
TZNAME:GMT
DTSTART:20261025T010000
END:STANDARD
BEGIN:DAYLIGHT
TZOFFSETFROM:+0000
TZOFFSETTO:+0100
TZNAME:BST
DTSTART:20270328T010000
END:DAYLIGHT
BEGIN:STANDARD
TZOFFSETFROM:+0100
TZOFFSETTO:+0000
TZNAME:GMT
DTSTART:20271031T010000
END:STANDARD
END:VTIMEZONE
BEGIN:VEVENT
DTSTART;TZID=Europe/London:20260911T193000
DTEND;TZID=Europe/London:20260913T153000
DTSTAMP:20260424T072848
CREATED:20260417T085840Z
LAST-MODIFIED:20260417T135944Z
UID:10730-1789155000-1789313400@www.girlguidingsurreyeast.org.uk
SUMMARY:Young Leaders' weekend 2026
DESCRIPTION:To all Young Leaders in Surrey East county \nYou are invited to spend a fun weekend at Bentley Copse in Guidford from 7.30pm on Friday 11 Sept to 3.30pm on Sunday 13 September. You will meet other young leaders from across the county\, whilst learning about the young leader development programme (YLDP)\, having fun doing adventurous activities and finding out about other opportunities available to young leaders. \nProgramme? We will be running a programme decided by you!\nWhen you register\, you will be able pick 4 activities you’d like to try or know you love and we’ll arrange the most popular. We’ll be doing a mix of training\, adventurous activities and team building games. \nCost? To secure your place\, complete this form and please pay a £20 non-refundable deposit to Surrey East (details below) by 17 July 2026. Please pay the £40 balance by 14th August. (Total cost for the weekend is £60). \nPayment details: Account name: Girlguiding Surrey East\, Sort code: 40-52-40\, Account number: 00022824 and use the reference: SEYLW followed by the name of the Young Leader (e.g. SEYLW Jane Smith). If you have any issues paying for this event\, please contact alex.lorenz@ggse.org.uk \nFurther information. More detailed information\, plus a consent form and a health form\, will be sent out in August when we know final numbers but if you have any questions in the meantime please email alex.lorenz@ggse.org.uk.
URL:https://www.girlguidingsurreyeast.org.uk/event/young-leader-weekend-2026/
LOCATION:Bentley Copse\, Hound House Road\, Shere\, Surrey\, GU5 9JH\, United Kingdom
CATEGORIES:County Event,Young leader development
ATTACH;FMTTYPE=image/jpeg:https://www.girlguidingsurreyeast.org.uk/wp-content/uploads/sites/2/2026/04/YL-tent-pitching-2024.jpg
ORGANIZER;CN="Alex Lorenz":MAILTO:alex.lorenz@ggse.org.uk
END:VEVENT
BEGIN:VEVENT
DTSTART;TZID=Europe/London:20260916T194500
DTEND;TZID=Europe/London:20260916T220000
DTSTAMP:20260424T072848
CREATED:20250108T193333Z
LAST-MODIFIED:20260106T104257Z
UID:9772-1789587900-1789596000@www.girlguidingsurreyeast.org.uk
SUMMARY:County Small Exec - September
DESCRIPTION:Meeting for the County Small Exec which includes the trustees: \n\nCounty Commissioner\nAssistant County Commissioner(s)\nDivision Commissioners of the six Divisions which make up Girlguiding Surrey East\nCounty Training Adviser\nCounty Outdoor Activity Adviser\nCounty Treasurer.\n\nIt also includes the County Administrator(s). \nOur County President\, County Trefoil Chair and and county appointment holders and advisers and any guest speakers may be invited to attend to represent specific agenda items\, agreed in advance with the County Commissioner.
URL:https://www.girlguidingsurreyeast.org.uk/event/county-small-exec-september-2/
LOCATION:Banstead Guide HQ\, The Drive\, Banstead\, Surrey\, SM7 1DA\, United Kingdom
CATEGORIES:County Executive
ORGANIZER;CN="County administrator - Julia Bennett":MAILTO:julia.bennett@ggse.org.uk
END:VEVENT
BEGIN:VEVENT
DTSTART;TZID=Europe/London:20260920T090000
DTEND;TZID=Europe/London:20260920T160000
DTSTAMP:20260424T072848
CREATED:20260212T114721Z
LAST-MODIFIED:20260212T114721Z
UID:10832-1789894800-1789920000@www.girlguidingsurreyeast.org.uk
SUMMARY:First Response Full Day - Faurefold
DESCRIPTION:This one day Full Response Course covers all the modules except the e-learning module. \nYou will need to complete this via the Learning Platform during the week before you attend the course. \nPlease bring a packed lunch \, tea and coffee will be provided. \nPlease wear comfortable guiding wear.
URL:https://www.girlguidingsurreyeast.org.uk/event/first-response-full-day-faurefold/
LOCATION:Faurefold\, Lince Lane\, Westcott\, Surrey\, RH4 3LX\, United Kingdom
CATEGORIES:First Response,Training
ATTACH;FMTTYPE=image/jpeg:https://www.girlguidingsurreyeast.org.uk/wp-content/uploads/sites/2/2024/08/First_Aid_SurreyEast2.jpg
ORGANIZER;CN="Maria Young":MAILTO:surreyeastggfirstresponse@gmail.com
END:VEVENT
BEGIN:VEVENT
DTSTART;TZID=Europe/London:20260925T170000
DTEND;TZID=Europe/London:20260927T150000
DTSTAMP:20260424T072848
CREATED:20250205T215048Z
LAST-MODIFIED:20260108T165226Z
UID:9967-1790355600-1790521200@www.girlguidingsurreyeast.org.uk
SUMMARY:Surrey East Leaders Weekend 2026
DESCRIPTION:Join us for a weekend of fun and friendship\nOur county leaders’ weekend will be held at Youlbury Scout site\, based in Oxford\, costing £135 per head. This price includes all meals from Friday evening including Sunday lunch (some of which will be catered by us)\, plus 3 adventurous activities and a badge for all participants.  We have booked Bear’s Den\, a purpose-built lodge with en-suite rooms of 1\, 2 and 4 people. It includes a kitchen\, hall and drying room. If you would like to go please email Kate at kate.fowles@ggse.org.uk \nA deposit of £70 will be required by 6 March. Places are limited so book early to avoid disappointment.  Payment to be made to Girlguiding Surrey East sort code 40-52-40 and account number 00022824 and state the reference of LW Oxford.
URL:https://www.girlguidingsurreyeast.org.uk/event/surrey-east-leaders-weekend-2026/
LOCATION:Youlbury scout activity centre\, Boars Hill\, Oxford\, OX1 5HD\, United Kingdom
CATEGORIES:County Executive,Events
ATTACH;FMTTYPE=image/jpeg:https://www.girlguidingsurreyeast.org.uk/wp-content/uploads/sites/2/2026/01/Y-Bears-Den-960x580-1.jpg
ORGANIZER;CN="Kate Fowles":MAILTO:kate.fowles@ggse.org.uk
END:VEVENT
END:VCALENDAR